Package: multiscan Version: 1.67.0 Command: /Library/Frameworks/R.framework/Resources/bin/R CMD build --keep-empty-dirs --no-resave-data multiscan StartedAt: 2025-02-09 17:05:04 -0500 (Sun, 09 Feb 2025) EndedAt: 2025-02-09 17:05:10 -0500 (Sun, 09 Feb 2025) EllapsedTime: 6.1 seconds RetCode: 0 Status: OK PackageFile: multiscan_1.67.0.tar.gz PackageFileSize: 750.9 KiB