Package: multiscan Version: 1.67.0 Command: /home/biocbuild/R/R/bin/R CMD INSTALL multiscan StartedAt: 2025-01-29 19:31:14 -0000 (Wed, 29 Jan 2025) EndedAt: 2025-01-29 19:31:21 -0000 (Wed, 29 Jan 2025) EllapsedTime: 6.4 seconds RetCode: 0 Status: OK