Package: multiscan Version: 1.67.0 Command: rm -rf multiscan.buildbin-libdir && mkdir multiscan.buildbin-libdir && /Users/biocbuild/BBS/utils/build-universal.sh multiscan_1.67.0.tar.gz /Library/Frameworks/R.framework/Resources/bin/R multiscan.buildbin-libdir StartedAt: 2025-02-10 01:05:14 -0500 (Mon, 10 Feb 2025) EndedAt: 2025-02-10 01:05:23 -0500 (Mon, 10 Feb 2025) EllapsedTime: 9.2 seconds RetCode: 0 Status: OK PackageFile: multiscan_1.67.0.tgz PackageFileSize: 780.9 KiB