Package: multiscan Version: 1.67.0 Command: /Library/Frameworks/R.framework/Resources/bin/R CMD INSTALL multiscan StartedAt: 2025-02-09 15:05:06 -0500 (Sun, 09 Feb 2025) EndedAt: 2025-02-09 15:05:18 -0500 (Sun, 09 Feb 2025) EllapsedTime: 12.5 seconds RetCode: 0 Status: OK