Package: multiscan Version: 1.67.0 Command: /home/biocbuild/bbs-3.21-bioc/R/bin/R CMD build --keep-empty-dirs --no-resave-data multiscan StartedAt: 2025-02-09 18:21:07 -0500 (Sun, 09 Feb 2025) EndedAt: 2025-02-09 18:21:16 -0500 (Sun, 09 Feb 2025) EllapsedTime: 9.0 seconds RetCode: 0 Status: OK PackageFile: multiscan_1.67.0.tar.gz PackageFileSize: 750.8 KiB