Package: multtest Version: 2.63.0 Command: rm -rf multtest.buildbin-libdir && mkdir multtest.buildbin-libdir && /Users/biocbuild/BBS/utils/build-universal.sh multtest_2.63.0.tar.gz /Library/Frameworks/R.framework/Resources/bin/R multtest.buildbin-libdir StartedAt: 2025-02-04 22:24:51 -0500 (Tue, 04 Feb 2025) EndedAt: 2025-02-04 22:24:58 -0500 (Tue, 04 Feb 2025) EllapsedTime: 6.1 seconds RetCode: 0 Status: OK PackageFile: multtest_2.63.0.tgz PackageFileSize: 833.9 KiB