Package: multtest Version: 2.63.0 Command: /Library/Frameworks/R.framework/Resources/bin/R CMD check --install=check:multtest.install-out.txt --library=/Library/Frameworks/R.framework/Resources/library --no-vignettes --timings multtest_2.63.0.tar.gz StartedAt: 2025-02-04 20:23:43 -0500 (Tue, 04 Feb 2025) EndedAt: 2025-02-04 20:24:12 -0500 (Tue, 04 Feb 2025) EllapsedTime: 29.3 seconds RetCode: 0 Status: WARNINGS CheckDir: multtest.Rcheck Warnings: 4