Package: multtest Version: 2.63.0 Command: /home/biocbuild/R/R/bin/R CMD build --keep-empty-dirs --no-resave-data multtest StartedAt: 2025-01-29 00:45:33 -0000 (Wed, 29 Jan 2025) EndedAt: 2025-01-29 00:45:35 -0000 (Wed, 29 Jan 2025) EllapsedTime: 2.0 seconds RetCode: 0 Status: OK PackageFile: multtest_2.63.0.tar.gz PackageFileSize: 1.235 MiB