Package: multtest Version: 2.63.0 Command: /home/biocbuild/R/R/bin/R CMD check --install=check:multtest.install-out.txt --library=/home/biocbuild/R/R/site-library --no-vignettes --timings multtest_2.63.0.tar.gz StartedAt: 2025-01-28 13:06:31 -0000 (Tue, 28 Jan 2025) EndedAt: 2025-01-28 13:08:16 -0000 (Tue, 28 Jan 2025) EllapsedTime: 104.2 seconds RetCode: 0 Status: WARNINGS CheckDir: multtest.Rcheck Warnings: 3