Package: multtest Version: 2.63.0 Command: /home/biocbuild/R/R/bin/R CMD INSTALL multtest StartedAt: 2025-01-29 20:21:12 -0000 (Wed, 29 Jan 2025) EndedAt: 2025-01-29 20:21:29 -0000 (Wed, 29 Jan 2025) EllapsedTime: 17.5 seconds RetCode: 0 Status: OK