Package: multtest Version: 2.63.0 Command: rm -rf multtest.buildbin-libdir && mkdir multtest.buildbin-libdir && /Users/biocbuild/BBS/utils/build-universal.sh multtest_2.63.0.tar.gz /Library/Frameworks/R.framework/Resources/bin/R multtest.buildbin-libdir StartedAt: 2025-02-10 01:05:18 -0500 (Mon, 10 Feb 2025) EndedAt: 2025-02-10 01:05:41 -0500 (Mon, 10 Feb 2025) EllapsedTime: 23.1 seconds RetCode: 0 Status: OK PackageFile: multtest_2.63.0.tgz PackageFileSize: 836 KiB