Package: multtest Version: 2.63.0 Command: /Library/Frameworks/R.framework/Resources/bin/R CMD build --keep-empty-dirs --no-resave-data multtest StartedAt: 2025-02-09 17:41:26 -0500 (Sun, 09 Feb 2025) EndedAt: 2025-02-09 17:41:28 -0500 (Sun, 09 Feb 2025) EllapsedTime: 2.3 seconds RetCode: 0 Status: OK PackageFile: multtest_2.63.0.tar.gz PackageFileSize: 1.235 MiB