Package: multtest Version: 2.63.0 Command: /Library/Frameworks/R.framework/Resources/bin/R CMD check --install=check:multtest.install-out.txt --library=/Library/Frameworks/R.framework/Resources/library --no-vignettes --timings multtest_2.63.0.tar.gz StartedAt: 2025-02-09 22:14:57 -0500 (Sun, 09 Feb 2025) EndedAt: 2025-02-09 22:16:21 -0500 (Sun, 09 Feb 2025) EllapsedTime: 83.6 seconds RetCode: 0 Status: WARNINGS CheckDir: multtest.Rcheck Warnings: 4