Package: multtest Version: 2.63.0 Command: /Library/Frameworks/R.framework/Resources/bin/R CMD INSTALL multtest StartedAt: 2025-02-09 15:35:16 -0500 (Sun, 09 Feb 2025) EndedAt: 2025-02-09 15:35:36 -0500 (Sun, 09 Feb 2025) EllapsedTime: 19.3 seconds RetCode: 0 Status: OK