Package: multtest Version: 2.63.0 Command: /home/biocbuild/bbs-3.21-bioc/R/bin/R CMD build --keep-empty-dirs --no-resave-data multtest StartedAt: 2025-02-04 18:19:12 -0500 (Tue, 04 Feb 2025) EndedAt: 2025-02-04 18:19:13 -0500 (Tue, 04 Feb 2025) EllapsedTime: 1.0 seconds RetCode: 0 Status: OK PackageFile: multtest_2.63.0.tar.gz PackageFileSize: 1.235 MiB