Package: multtest Version: 2.63.0 Command: /home/biocbuild/bbs-3.21-bioc/R/bin/R CMD check --install=check:multtest.install-out.txt --library=/home/biocbuild/bbs-3.21-bioc/R/site-library --timings multtest_2.63.0.tar.gz StartedAt: 2025-02-05 00:47:11 -0500 (Wed, 05 Feb 2025) EndedAt: 2025-02-05 00:48:17 -0500 (Wed, 05 Feb 2025) EllapsedTime: 66.1 seconds RetCode: 0 Status: WARNINGS CheckDir: multtest.Rcheck Warnings: 3