Package: multtest Version: 2.63.0 Command: rm -rf multtest.buildbin-libdir && mkdir multtest.buildbin-libdir && E:\biocbuild\bbs-3.21-bioc\R\bin\R.exe CMD INSTALL --build --library=multtest.buildbin-libdir multtest_2.63.0.tar.gz StartedAt: 2025-02-10 08:15:14 -0500 (Mon, 10 Feb 2025) EndedAt: 2025-02-10 08:15:53 -0500 (Mon, 10 Feb 2025) EllapsedTime: 38.6 seconds RetCode: 0 Status: OK PackageFile: multtest_2.63.0.zip PackageFileSize: 834 KiB