Package: multtest Version: 2.63.0 Command: chmod a+r multtest -R && E:\biocbuild\bbs-3.21-bioc\R\bin\R.exe CMD build --keep-empty-dirs --no-resave-data multtest StartedAt: 2025-02-09 20:14:29 -0500 (Sun, 09 Feb 2025) EndedAt: 2025-02-09 20:14:33 -0500 (Sun, 09 Feb 2025) EllapsedTime: 4.0 seconds RetCode: 0 Status: OK PackageFile: multtest_2.63.0.tar.gz PackageFileSize: 1.234 MiB