Package: multtest Version: 2.63.0 Command: E:\biocbuild\bbs-3.21-bioc\R\bin\R.exe CMD INSTALL multtest StartedAt: 2025-02-09 15:59:22 -0500 (Sun, 09 Feb 2025) EndedAt: 2025-02-09 16:00:04 -0500 (Sun, 09 Feb 2025) EllapsedTime: 41.7 seconds RetCode: 0 Status: OK