Package: mumosa Version: 1.15.0 Command: rm -rf mumosa.buildbin-libdir && mkdir mumosa.buildbin-libdir && /Users/biocbuild/BBS/utils/build-universal.sh mumosa_1.15.0.tar.gz /Library/Frameworks/R.framework/Resources/bin/R mumosa.buildbin-libdir StartedAt: 2025-02-09 22:23:02 -0500 (Sun, 09 Feb 2025) EndedAt: 2025-02-09 22:23:15 -0500 (Sun, 09 Feb 2025) EllapsedTime: 13.2 seconds RetCode: 0 Status: OK PackageFile: mumosa_1.15.0.tgz PackageFileSize: 746.3 KiB