Package: mumosa Version: 1.15.0 Command: rm -rf mumosa.buildbin-libdir && mkdir mumosa.buildbin-libdir && /Users/biocbuild/BBS/utils/build-universal.sh mumosa_1.15.0.tar.gz /Library/Frameworks/R.framework/Resources/bin/R mumosa.buildbin-libdir StartedAt: 2025-02-10 01:05:21 -0500 (Mon, 10 Feb 2025) EndedAt: 2025-02-10 01:06:04 -0500 (Mon, 10 Feb 2025) EllapsedTime: 42.8 seconds RetCode: 0 Status: OK PackageFile: mumosa_1.15.0.tgz PackageFileSize: 742.4 KiB