Package: mumosa Version: 1.15.0 Command: /Library/Frameworks/R.framework/Resources/bin/R CMD build --keep-empty-dirs --no-resave-data mumosa StartedAt: 2025-02-09 17:41:26 -0500 (Sun, 09 Feb 2025) EndedAt: 2025-02-09 17:43:33 -0500 (Sun, 09 Feb 2025) EllapsedTime: 126.6 seconds RetCode: 0 Status: OK PackageFile: mumosa_1.15.0.tar.gz PackageFileSize: 672.3 KiB