Package: mumosa Version: 1.15.0 Command: /home/biocbuild/bbs-3.21-bioc/R/bin/R CMD build --keep-empty-dirs --no-resave-data mumosa StartedAt: 2025-02-09 18:21:22 -0500 (Sun, 09 Feb 2025) EndedAt: 2025-02-09 18:23:08 -0500 (Sun, 09 Feb 2025) EllapsedTime: 106.1 seconds RetCode: 0 Status: OK PackageFile: mumosa_1.15.0.tar.gz PackageFileSize: 633.2 KiB