Package: mumosa Version: 1.15.0 Command: /home/biocbuild/bbs-3.21-bioc/R/bin/R CMD check --install=check:mumosa.install-out.txt --library=/home/biocbuild/bbs-3.21-bioc/R/site-library --timings mumosa_1.15.0.tar.gz StartedAt: 2025-02-10 00:39:46 -0500 (Mon, 10 Feb 2025) EndedAt: 2025-02-10 00:46:53 -0500 (Mon, 10 Feb 2025) EllapsedTime: 426.9 seconds RetCode: 0 Status: OK CheckDir: mumosa.Rcheck Warnings: 0