Package: mumosa Version: 1.15.0 Command: /home/biocbuild/bbs-3.21-bioc/R/bin/R CMD INSTALL mumosa StartedAt: 2025-02-12 15:54:50 -0500 (Wed, 12 Feb 2025) EndedAt: 2025-02-12 15:55:19 -0500 (Wed, 12 Feb 2025) EllapsedTime: 28.9 seconds RetCode: 0 Status: OK