Package: muscat Version: 1.21.0 Command: /home/biocbuild/R/R/bin/R CMD INSTALL muscat StartedAt: 2025-01-29 20:28:13 -0000 (Wed, 29 Jan 2025) EndedAt: 2025-01-29 20:29:03 -0000 (Wed, 29 Jan 2025) EllapsedTime: 50.1 seconds RetCode: 0 Status: OK