Package: muscat Version: 1.21.0 Command: /Library/Frameworks/R.framework/Resources/bin/R CMD build --keep-empty-dirs --no-resave-data muscat StartedAt: 2025-02-12 17:35:47 -0500 (Wed, 12 Feb 2025) EndedAt: 2025-02-12 17:41:51 -0500 (Wed, 12 Feb 2025) EllapsedTime: 364.0 seconds RetCode: 0 Status: OK PackageFile: muscat_1.21.0.tar.gz PackageFileSize: 6.851 MiB