Package: muscat Version: 1.21.0 Command: /home/biocbuild/bbs-3.21-bioc/R/bin/R CMD check --install=check:muscat.install-out.txt --library=/home/biocbuild/bbs-3.21-bioc/R/site-library --timings muscat_1.21.0.tar.gz StartedAt: 2025-02-10 00:40:11 -0500 (Mon, 10 Feb 2025) EndedAt: 2025-02-10 00:51:27 -0500 (Mon, 10 Feb 2025) EllapsedTime: 676.1 seconds RetCode: 1 Status: ERROR CheckDir: muscat.Rcheck Warnings: NA