Package: muscat Version: 1.21.0 Command: /home/biocbuild/bbs-3.21-bioc/R/bin/R CMD INSTALL muscat StartedAt: 2025-02-09 15:53:32 -0500 (Sun, 09 Feb 2025) EndedAt: 2025-02-09 15:54:09 -0500 (Sun, 09 Feb 2025) EllapsedTime: 37.1 seconds RetCode: 0 Status: OK