Package: muscle Version: 3.49.0 Command: /Library/Frameworks/R.framework/Resources/bin/R CMD INSTALL muscle StartedAt: 2025-02-09 15:04:46 -0500 (Sun, 09 Feb 2025) EndedAt: 2025-02-09 15:04:51 -0500 (Sun, 09 Feb 2025) EllapsedTime: 5.0 seconds RetCode: 1 Status: ERROR