Package: muscle Version: 3.49.0 Command: /home/biocbuild/R/R/bin/R CMD INSTALL muscle StartedAt: 2025-01-29 19:39:17 -0000 (Wed, 29 Jan 2025) EndedAt: 2025-01-29 19:39:40 -0000 (Wed, 29 Jan 2025) EllapsedTime: 22.5 seconds RetCode: 1 Status: ERROR