Package: muscle Version: 3.49.0 Command: /Library/Frameworks/R.framework/Resources/bin/R CMD build --keep-empty-dirs --no-resave-data muscle StartedAt: 2025-02-09 17:41:38 -0500 (Sun, 09 Feb 2025) EndedAt: 2025-02-09 17:41:57 -0500 (Sun, 09 Feb 2025) EllapsedTime: 18.2 seconds RetCode: 1 Status: ERROR PackageFile: None PackageFileSize: NA