Package: muscle Version: 3.49.0 Command: E:\biocbuild\bbs-3.21-bioc\R\bin\R.exe CMD INSTALL muscle StartedAt: 2025-02-09 15:41:19 -0500 (Sun, 09 Feb 2025) EndedAt: 2025-02-09 15:42:00 -0500 (Sun, 09 Feb 2025) EllapsedTime: 40.7 seconds RetCode: 1 Status: ERROR