Package: musicatk Version: 2.1.0 Maintainer: Joshua D. Campbell MaintainerEmail: camp at bu.edu git_url: https://git.bioconductor.org/packages/musicatk git_branch: devel git_last_commit: 45539aa git_last_commit_date: 2024-10-29 10:52:22 -0500 (Tue, 29 Oct 2024)