Package: musicatk Version: 2.1.0 Command: rm -rf musicatk.buildbin-libdir && mkdir musicatk.buildbin-libdir && /Users/biocbuild/BBS/utils/build-universal.sh musicatk_2.1.0.tar.gz /Library/Frameworks/R.framework/Resources/bin/R musicatk.buildbin-libdir StartedAt: 2025-02-10 01:05:24 -0500 (Mon, 10 Feb 2025) EndedAt: 2025-02-10 01:06:32 -0500 (Mon, 10 Feb 2025) EllapsedTime: 68.2 seconds RetCode: 0 Status: OK PackageFile: musicatk_2.1.0.tgz PackageFileSize: 4.067 MiB