Package: musicatk Version: 2.1.0 Command: E:\biocbuild\bbs-3.21-bioc\R\bin\R.exe CMD check --no-multiarch --install=check:musicatk.install-out.txt --library=E:\biocbuild\bbs-3.21-bioc\R\library --no-vignettes --timings musicatk_2.1.0.tar.gz StartedAt: 2025-02-10 03:28:36 -0500 (Mon, 10 Feb 2025) EndedAt: 2025-02-10 03:41:45 -0500 (Mon, 10 Feb 2025) EllapsedTime: 788.2 seconds RetCode: 0 Status: OK CheckDir: musicatk.Rcheck Warnings: 0