Package: musicatk Version: 2.1.0 Command: E:\biocbuild\bbs-3.21-bioc\R\bin\R.exe CMD INSTALL musicatk StartedAt: 2025-02-12 17:02:09 -0500 (Wed, 12 Feb 2025) EndedAt: 2025-02-12 17:03:52 -0500 (Wed, 12 Feb 2025) EllapsedTime: 103.5 seconds RetCode: 0 Status: OK