Package: mygene Version: 1.43.0 Command: /home/biocbuild/R/R/bin/R CMD INSTALL mygene StartedAt: 2025-01-29 20:06:54 -0000 (Wed, 29 Jan 2025) EndedAt: 2025-01-29 20:07:47 -0000 (Wed, 29 Jan 2025) EllapsedTime: 53.1 seconds RetCode: 0 Status: OK