Package: mygene Version: 1.43.0 Command: /Library/Frameworks/R.framework/Resources/bin/R CMD check --install=check:mygene.install-out.txt --library=/Library/Frameworks/R.framework/Resources/library --no-vignettes --timings mygene_1.43.0.tar.gz StartedAt: 2025-02-12 22:02:34 -0500 (Wed, 12 Feb 2025) EndedAt: 2025-02-12 22:07:26 -0500 (Wed, 12 Feb 2025) EllapsedTime: 292.7 seconds RetCode: 0 Status: OK CheckDir: mygene.Rcheck Warnings: 0