Package: mygene Version: 1.43.0 Command: /Library/Frameworks/R.framework/Resources/bin/R CMD INSTALL mygene StartedAt: 2025-02-12 15:25:18 -0500 (Wed, 12 Feb 2025) EndedAt: 2025-02-12 15:26:11 -0500 (Wed, 12 Feb 2025) EllapsedTime: 52.2 seconds RetCode: 0 Status: OK