Package: mygene Version: 1.43.0 Command: E:\biocbuild\bbs-3.21-bioc\R\bin\R.exe CMD check --no-multiarch --install=check:mygene.install-out.txt --library=E:\biocbuild\bbs-3.21-bioc\R\library --no-vignettes --timings mygene_1.43.0.tar.gz StartedAt: 2025-02-10 03:29:22 -0500 (Mon, 10 Feb 2025) EndedAt: 2025-02-10 03:34:32 -0500 (Mon, 10 Feb 2025) EllapsedTime: 309.9 seconds RetCode: 0 Status: OK CheckDir: mygene.Rcheck Warnings: 0