Package: mzID Version: 1.45.0 Command: /Library/Frameworks/R.framework/Resources/bin/R CMD build --keep-empty-dirs --no-resave-data mzID StartedAt: 2025-02-12 17:05:50 -0500 (Wed, 12 Feb 2025) EndedAt: 2025-02-12 17:05:55 -0500 (Wed, 12 Feb 2025) EllapsedTime: 5.1 seconds RetCode: 0 Status: OK PackageFile: mzID_1.45.0.tar.gz PackageFileSize: 582.2 KiB