Package: mzID Version: 1.45.0 Command: /Library/Frameworks/R.framework/Resources/bin/R CMD check --install=check:mzID.install-out.txt --library=/Library/Frameworks/R.framework/Resources/library --no-vignettes --timings mzID_1.45.0.tar.gz StartedAt: 2025-02-09 20:23:28 -0500 (Sun, 09 Feb 2025) EndedAt: 2025-02-09 20:23:46 -0500 (Sun, 09 Feb 2025) EllapsedTime: 17.2 seconds RetCode: 0 Status: OK CheckDir: mzID.Rcheck Warnings: 0