Package: mzID Version: 1.45.0 Command: rm -rf mzID.buildbin-libdir && mkdir mzID.buildbin-libdir && /Users/biocbuild/BBS/utils/build-universal.sh mzID_1.45.0.tar.gz /Library/Frameworks/R.framework/Resources/bin/R mzID.buildbin-libdir StartedAt: 2025-02-10 01:05:30 -0500 (Mon, 10 Feb 2025) EndedAt: 2025-02-10 01:05:41 -0500 (Mon, 10 Feb 2025) EllapsedTime: 10.4 seconds RetCode: 0 Status: OK PackageFile: mzID_1.45.0.tgz PackageFileSize: 832.7 KiB