Package: mzID Version: 1.45.0 Command: /home/biocbuild/bbs-3.21-bioc/R/bin/R CMD check --install=check:mzID.install-out.txt --library=/home/biocbuild/bbs-3.21-bioc/R/site-library --timings mzID_1.45.0.tar.gz StartedAt: 2025-02-10 00:41:41 -0500 (Mon, 10 Feb 2025) EndedAt: 2025-02-10 00:42:18 -0500 (Mon, 10 Feb 2025) EllapsedTime: 37.1 seconds RetCode: 0 Status: OK CheckDir: mzID.Rcheck Warnings: 0