Package: ncRNAtools Version: 1.17.0 Command: /Library/Frameworks/R.framework/Resources/bin/R CMD check --install=check:ncRNAtools.install-out.txt --library=/Library/Frameworks/R.framework/Resources/library --no-vignettes --timings ncRNAtools_1.17.0.tar.gz StartedAt: 2025-02-09 20:24:52 -0500 (Sun, 09 Feb 2025) EndedAt: 2025-02-09 20:26:12 -0500 (Sun, 09 Feb 2025) EllapsedTime: 79.9 seconds RetCode: 0 Status: OK CheckDir: ncRNAtools.Rcheck Warnings: 0