Package: ncRNAtools Version: 1.17.0 Command: /Library/Frameworks/R.framework/Resources/bin/R CMD build --keep-empty-dirs --no-resave-data ncRNAtools StartedAt: 2025-02-09 17:43:01 -0500 (Sun, 09 Feb 2025) EndedAt: 2025-02-09 17:44:14 -0500 (Sun, 09 Feb 2025) EllapsedTime: 73.1 seconds RetCode: 0 Status: OK PackageFile: ncRNAtools_1.17.0.tar.gz PackageFileSize: 318.2 KiB