Package: ncRNAtools Version: 1.17.0 Command: chmod a+r ncRNAtools -R && E:\biocbuild\bbs-3.21-bioc\R\bin\R.exe CMD build --keep-empty-dirs --no-resave-data ncRNAtools StartedAt: 2025-02-12 20:24:57 -0500 (Wed, 12 Feb 2025) EndedAt: 2025-02-12 20:26:00 -0500 (Wed, 12 Feb 2025) EllapsedTime: 63.4 seconds RetCode: 0 Status: OK PackageFile: ncRNAtools_1.17.0.tar.gz PackageFileSize: 289.4 KiB