Package: ncRNAtools Version: 1.17.0 Command: E:\biocbuild\bbs-3.21-bioc\R\bin\R.exe CMD check --no-multiarch --install=check:ncRNAtools.install-out.txt --library=E:\biocbuild\bbs-3.21-bioc\R\library --no-vignettes --timings ncRNAtools_1.17.0.tar.gz StartedAt: 2025-02-10 03:34:03 -0500 (Mon, 10 Feb 2025) EndedAt: 2025-02-10 03:36:17 -0500 (Mon, 10 Feb 2025) EllapsedTime: 134.7 seconds RetCode: 0 Status: OK CheckDir: ncRNAtools.Rcheck Warnings: 0