Package: ndexr Version: 1.29.0 Maintainer: Florian Auer MaintainerEmail: florian.auer at informatik.uni-augsburg.de git_url: https://git.bioconductor.org/packages/ndexr git_branch: devel git_last_commit: b913e3a git_last_commit_date: 2024-10-29 10:19:40 -0500 (Tue, 29 Oct 2024)